BEGIN:VCALENDAR
VERSION:2.0
PRODID:-//wp-events-plugin.com//6.6.4.4//EN
TZID:Europe/Madrid
X-WR-TIMEZONE:Europe/Madrid
BEGIN:VEVENT
UID:1002@casaldejoves.com
DTSTART;TZID=Europe/Madrid:20251202T173000
DTEND;TZID=Europe/Madrid:20251202T190000
DTSTAMP:20250902T092837Z
URL:https://casaldejoves.com/events/curs-trimestral-aeris-junior-5-2025-12
 -02/
SUMMARY:Curs Trimestral - Aeris Júnior
DESCRIPTION: 22\,55 €  -  12-18 anys
ATTACH;FMTTYPE=image/jpeg:https://casaldejoves.com/wp-content/uploads/2023
 /12/woman-using-acrobatic-fabrics.png
CATEGORIES:Cursos
LOCATION:Sala Utopia\, Av. de la Indústria\, 34\,\, Sant Just Desvern\, Ba
 rcelona\, 08960\, Espanya
X-APPLE-STRUCTURED-LOCATION;VALUE=URI;X-ADDRESS=Av. de la Indústria\, 34\,
 \, Sant Just Desvern\, Barcelona\, 08960\, Espanya;X-APPLE-RADIUS=100;X-TI
 TLE=Sala Utopia:geo:0,0
END:VEVENT
BEGIN:VTIMEZONE
TZID:Europe/Madrid
X-LIC-LOCATION:Europe/Madrid
BEGIN:STANDARD
DTSTART:20251026T020000
TZOFFSETFROM:+0200
TZOFFSETTO:+0100
TZNAME:CET
END:STANDARD
END:VTIMEZONE
END:VCALENDAR