BEGIN:VCALENDAR
VERSION:2.0
PRODID:-//wp-events-plugin.com//6.6.4.4//EN
TZID:Europe/Madrid
X-WR-TIMEZONE:Europe/Madrid
BEGIN:VEVENT
UID:387@casaldejoves.com
DTSTART;TZID=Europe/Madrid:20240720T230000
DTEND;TZID=Europe/Madrid:20240721T013000
DTSTAMP:20240507T145513Z
URL:https://casaldejoves.com/events/cinema-fresca-spider-man-multiverso/
SUMMARY:Activitats d'Estiu - Cinema a la Fresca "Spider-Man: Cruzando el Mu
 ltiverso"
DESCRIPTION: Activitat gratuïta  -  +12 anys
ATTACH;FMTTYPE=image/jpeg:https://casaldejoves.com/wp-content/uploads/2024
 /05/Cinema-a-la-fresca.jpeg
CATEGORIES:Activitats
LOCATION:Exterior del Casal\, Av. de la Indústria\, 34\,\, Sant Just Desve
 rn (Barcelona)\, Barcelona\, 08960\, Espanya
X-APPLE-STRUCTURED-LOCATION;VALUE=URI;X-ADDRESS=Av. de la Indústria\, 34\,
 \, Sant Just Desvern (Barcelona)\, Barcelona\, 08960\, Espanya;X-APPLE-RAD
 IUS=100;X-TITLE=Exterior del Casal:geo:0,0
END:VEVENT
BEGIN:VTIMEZONE
TZID:Europe/Madrid
X-LIC-LOCATION:Europe/Madrid
BEGIN:DAYLIGHT
DTSTART:20240331T030000
TZOFFSETFROM:+0100
TZOFFSETTO:+0200
TZNAME:CEST
END:DAYLIGHT
END:VTIMEZONE
END:VCALENDAR